BEGIN:VCALENDAR
VERSION:2.0
PRODID:-//Paolo Roversi website - ECPv6.15.20//NONSGML v1.0//EN
CALSCALE:GREGORIAN
METHOD:PUBLISH
X-ORIGINAL-URL:https://www.paoloroversi.me
X-WR-CALDESC:Eventi per Paolo Roversi website
REFRESH-INTERVAL;VALUE=DURATION:PT1H
X-Robots-Tag:noindex
X-PUBLISHED-TTL:PT1H
BEGIN:VTIMEZONE
TZID:Europe/Helsinki
BEGIN:DAYLIGHT
TZOFFSETFROM:+0200
TZOFFSETTO:+0300
TZNAME:EEST
DTSTART:20240331T010000
END:DAYLIGHT
BEGIN:STANDARD
TZOFFSETFROM:+0300
TZOFFSETTO:+0200
TZNAME:EET
DTSTART:20241027T010000
END:STANDARD
BEGIN:DAYLIGHT
TZOFFSETFROM:+0200
TZOFFSETTO:+0300
TZNAME:EEST
DTSTART:20250330T010000
END:DAYLIGHT
BEGIN:STANDARD
TZOFFSETFROM:+0300
TZOFFSETTO:+0200
TZNAME:EET
DTSTART:20251026T010000
END:STANDARD
BEGIN:DAYLIGHT
TZOFFSETFROM:+0200
TZOFFSETTO:+0300
TZNAME:EEST
DTSTART:20260329T010000
END:DAYLIGHT
BEGIN:STANDARD
TZOFFSETFROM:+0300
TZOFFSETTO:+0200
TZNAME:EET
DTSTART:20261025T010000
END:STANDARD
END:VTIMEZONE
BEGIN:VEVENT
DTSTART;TZID=Europe/Helsinki:20250221T182000
DTEND;TZID=Europe/Helsinki:20250221T182000
DTSTAMP:20260419T180420
CREATED:20250213T163157Z
LAST-MODIFIED:20250213T163220Z
UID:16705-1740162000-1740162000@www.paoloroversi.me
SUMMARY:Paolo Roversi presenta L’innocenza dell’iguana a Suzzara
DESCRIPTION:Venerdì  21 febbraio alle ore 18:20  presenterò a Suzzara il mio romanzo “L’innocenza dell’iguana” (Marsilio). Appuntamento al Mattia’s bar.
URL:https://www.paoloroversi.me/evento/paolo-roversi-presenta-linnocenza-delliguana-a-suzzara/
LOCATION:Suzzara\, Suzzara
CATEGORIES:presentazione
ATTACH;FMTTYPE=image/jpeg:https://www.paoloroversi.me/wp-content/uploads/2025/02/IMG-20250213-WA0008.jpg
END:VEVENT
END:VCALENDAR