BEGIN:VCALENDAR
VERSION:2.0
PRODID:-//Paolo Roversi website - ECPv6.15.20//NONSGML v1.0//EN
CALSCALE:GREGORIAN
METHOD:PUBLISH
X-WR-CALNAME:Paolo Roversi website
X-ORIGINAL-URL:https://www.paoloroversi.me
X-WR-CALDESC:Eventi per Paolo Roversi website
REFRESH-INTERVAL;VALUE=DURATION:PT1H
X-Robots-Tag:noindex
X-PUBLISHED-TTL:PT1H
BEGIN:VTIMEZONE
TZID:Europe/Helsinki
BEGIN:DAYLIGHT
TZOFFSETFROM:+0200
TZOFFSETTO:+0300
TZNAME:EEST
DTSTART:20240331T010000
END:DAYLIGHT
BEGIN:STANDARD
TZOFFSETFROM:+0300
TZOFFSETTO:+0200
TZNAME:EET
DTSTART:20241027T010000
END:STANDARD
BEGIN:DAYLIGHT
TZOFFSETFROM:+0200
TZOFFSETTO:+0300
TZNAME:EEST
DTSTART:20250330T010000
END:DAYLIGHT
BEGIN:STANDARD
TZOFFSETFROM:+0300
TZOFFSETTO:+0200
TZNAME:EET
DTSTART:20251026T010000
END:STANDARD
BEGIN:DAYLIGHT
TZOFFSETFROM:+0200
TZOFFSETTO:+0300
TZNAME:EEST
DTSTART:20260329T010000
END:DAYLIGHT
BEGIN:STANDARD
TZOFFSETFROM:+0300
TZOFFSETTO:+0200
TZNAME:EET
DTSTART:20261025T010000
END:STANDARD
END:VTIMEZONE
BEGIN:VEVENT
DTSTART;TZID=Europe/Helsinki:20250512T204500
DTEND;TZID=Europe/Helsinki:20250512T204500
DTSTAMP:20260419T191917
CREATED:20250502T180406Z
LAST-MODIFIED:20250502T180445Z
UID:16923-1747082700-1747082700@www.paoloroversi.me
SUMMARY:Anteprima a Cantù de L’enigma Kaminski
DESCRIPTION:L’anteprima del nuovo romanzo L’enigma Kaminski (Mondadori) una nuova indagine alla vecchia maniera per il commissario Botero\, si terrà il giorno prima dell’iuscita in libreria\, il 12 maggio alle ore 20.45 allo spazio libri La cornice a Cantù con le Sfogliatelle!
URL:https://www.paoloroversi.me/evento/anteprima-a-cantu-de-lenigma-kaminski/
LOCATION:cantù\, Cantù
CATEGORIES:presentazione
ATTACH;FMTTYPE=image/jpeg:https://www.paoloroversi.me/wp-content/uploads/2025/05/IMG-20250502-WA0001.jpg
END:VEVENT
END:VCALENDAR