BEGIN:VCALENDAR
VERSION:2.0
PRODID:-//Paolo Roversi website - ECPv6.15.20//NONSGML v1.0//EN
CALSCALE:GREGORIAN
METHOD:PUBLISH
X-ORIGINAL-URL:https://www.paoloroversi.me
X-WR-CALDESC:Eventi per Paolo Roversi website
REFRESH-INTERVAL;VALUE=DURATION:PT1H
X-Robots-Tag:noindex
X-PUBLISHED-TTL:PT1H
BEGIN:VTIMEZONE
TZID:Europe/Helsinki
BEGIN:DAYLIGHT
TZOFFSETFROM:+0200
TZOFFSETTO:+0300
TZNAME:EEST
DTSTART:20240331T010000
END:DAYLIGHT
BEGIN:STANDARD
TZOFFSETFROM:+0300
TZOFFSETTO:+0200
TZNAME:EET
DTSTART:20241027T010000
END:STANDARD
BEGIN:DAYLIGHT
TZOFFSETFROM:+0200
TZOFFSETTO:+0300
TZNAME:EEST
DTSTART:20250330T010000
END:DAYLIGHT
BEGIN:STANDARD
TZOFFSETFROM:+0300
TZOFFSETTO:+0200
TZNAME:EET
DTSTART:20251026T010000
END:STANDARD
BEGIN:DAYLIGHT
TZOFFSETFROM:+0200
TZOFFSETTO:+0300
TZNAME:EEST
DTSTART:20260329T010000
END:DAYLIGHT
BEGIN:STANDARD
TZOFFSETFROM:+0300
TZOFFSETTO:+0200
TZNAME:EET
DTSTART:20261025T010000
END:STANDARD
END:VTIMEZONE
BEGIN:VEVENT
DTSTART;TZID=Europe/Helsinki:20250522T100000
DTEND;TZID=Europe/Helsinki:20250522T120000
DTSTAMP:20260419T191927
CREATED:20250520T063235Z
LAST-MODIFIED:20250520T063235Z
UID:17033-1747908000-1747915200@www.paoloroversi.me
SUMMARY:Paolo Roversi frma le copie de L’enigma Kaminski a Rozzano
DESCRIPTION:Giovedì 22 maggio dalle ore 10:00 alle 12  sarò alla libreria Giunti al Punto al centro commerciale Fiordaliso di Rozzano per firmare le copie del mio romanzo “L’enigma Kaminski” (Mondadori). Vi aspetto!
URL:https://www.paoloroversi.me/evento/paolo-roversi-frma-le-copie-de-lenigma-kaminski-a-rozzano/
LOCATION:rozzano\, Rozzano
CATEGORIES:firmacopie
ATTACH;FMTTYPE=image/png:https://www.paoloroversi.me/wp-content/uploads/2025/05/firmacopie_giunti.png
END:VEVENT
BEGIN:VEVENT
DTSTART;TZID=Europe/Helsinki:20250522T190000
DTEND;TZID=Europe/Helsinki:20250522T190000
DTSTAMP:20260419T191927
CREATED:20250507T091906Z
LAST-MODIFIED:20250507T091921Z
UID:16947-1747940400-1747940400@www.paoloroversi.me
SUMMARY:Paolo Roversi presenta L’enigma Kaminski a Milano da Mamì
DESCRIPTION:Giovedì 22 maggio alle ore 19:00  presenterò a Milano il mio romanzo “L’enigma Kaminski” (Mondadori). Appuntamento alla libreria Mamì (dove si brinda anche!).
URL:https://www.paoloroversi.me/evento/paolo-roversi-presenta-lenigma-kaminski-a-milano-da-mami/
LOCATION:MaMì\, via Calzecchi 2\, milano
CATEGORIES:presentazione
ATTACH;FMTTYPE=image/jpeg:https://www.paoloroversi.me/wp-content/uploads/2025/05/IMG-20250506-WA0019.jpg
END:VEVENT
END:VCALENDAR