BEGIN:VCALENDAR
VERSION:2.0
PRODID:-//Paolo Roversi website - ECPv6.15.20//NONSGML v1.0//EN
CALSCALE:GREGORIAN
METHOD:PUBLISH
X-WR-CALNAME:Paolo Roversi website
X-ORIGINAL-URL:https://www.paoloroversi.me
X-WR-CALDESC:Eventi per Paolo Roversi website
REFRESH-INTERVAL;VALUE=DURATION:PT1H
X-Robots-Tag:noindex
X-PUBLISHED-TTL:PT1H
BEGIN:VTIMEZONE
TZID:Europe/Helsinki
BEGIN:DAYLIGHT
TZOFFSETFROM:+0200
TZOFFSETTO:+0300
TZNAME:EEST
DTSTART:20240331T010000
END:DAYLIGHT
BEGIN:STANDARD
TZOFFSETFROM:+0300
TZOFFSETTO:+0200
TZNAME:EET
DTSTART:20241027T010000
END:STANDARD
BEGIN:DAYLIGHT
TZOFFSETFROM:+0200
TZOFFSETTO:+0300
TZNAME:EEST
DTSTART:20250330T010000
END:DAYLIGHT
BEGIN:STANDARD
TZOFFSETFROM:+0300
TZOFFSETTO:+0200
TZNAME:EET
DTSTART:20251026T010000
END:STANDARD
BEGIN:DAYLIGHT
TZOFFSETFROM:+0200
TZOFFSETTO:+0300
TZNAME:EEST
DTSTART:20260329T010000
END:DAYLIGHT
BEGIN:STANDARD
TZOFFSETFROM:+0300
TZOFFSETTO:+0200
TZNAME:EET
DTSTART:20261025T010000
END:STANDARD
END:VTIMEZONE
BEGIN:VEVENT
DTSTART;TZID=Europe/Helsinki:20250527T180000
DTEND;TZID=Europe/Helsinki:20250527T180000
DTSTAMP:20260419T174651
CREATED:20250519T084609Z
LAST-MODIFIED:20250519T084625Z
UID:17016-1748368800-1748368800@www.paoloroversi.me
SUMMARY:Paolo Roversi presenta L’enigma Kaminski a Piacenza
DESCRIPTION:Martedì 27 maggio alle ore 18:00  presenterò a Piacenza il mio romanzo “L’enigma Kaminski” (Mondadori). Appuntamento alla libreria Fahrenheit 451.
URL:https://www.paoloroversi.me/evento/paolo-roversi-presenta-lenigma-kaminski-a-piacenza/
LOCATION:Fahrenheit 451 Piacenza\, via legnano 4\, piacenza
CATEGORIES:presentazione
ATTACH;FMTTYPE=image/png:https://www.paoloroversi.me/wp-content/uploads/2025/05/roversi-locandina-.png
END:VEVENT
END:VCALENDAR