BEGIN:VCALENDAR
VERSION:2.0
PRODID:-//Paolo Roversi website - ECPv6.15.20//NONSGML v1.0//EN
CALSCALE:GREGORIAN
METHOD:PUBLISH
X-ORIGINAL-URL:https://www.paoloroversi.me
X-WR-CALDESC:Eventi per Paolo Roversi website
REFRESH-INTERVAL;VALUE=DURATION:PT1H
X-Robots-Tag:noindex
X-PUBLISHED-TTL:PT1H
BEGIN:VTIMEZONE
TZID:Europe/Helsinki
BEGIN:DAYLIGHT
TZOFFSETFROM:+0200
TZOFFSETTO:+0300
TZNAME:EEST
DTSTART:20230326T010000
END:DAYLIGHT
BEGIN:STANDARD
TZOFFSETFROM:+0300
TZOFFSETTO:+0200
TZNAME:EET
DTSTART:20231029T010000
END:STANDARD
BEGIN:DAYLIGHT
TZOFFSETFROM:+0200
TZOFFSETTO:+0300
TZNAME:EEST
DTSTART:20240331T010000
END:DAYLIGHT
BEGIN:STANDARD
TZOFFSETFROM:+0300
TZOFFSETTO:+0200
TZNAME:EET
DTSTART:20241027T010000
END:STANDARD
BEGIN:DAYLIGHT
TZOFFSETFROM:+0200
TZOFFSETTO:+0300
TZNAME:EEST
DTSTART:20250330T010000
END:DAYLIGHT
BEGIN:STANDARD
TZOFFSETFROM:+0300
TZOFFSETTO:+0200
TZNAME:EET
DTSTART:20251026T010000
END:STANDARD
BEGIN:DAYLIGHT
TZOFFSETFROM:+0200
TZOFFSETTO:+0300
TZNAME:EEST
DTSTART:20260329T010000
END:DAYLIGHT
BEGIN:STANDARD
TZOFFSETFROM:+0300
TZOFFSETTO:+0200
TZNAME:EET
DTSTART:20261025T010000
END:STANDARD
END:VTIMEZONE
BEGIN:VEVENT
DTSTART;TZID=Europe/Helsinki:20250529T183000
DTEND;TZID=Europe/Helsinki:20250529T183000
DTSTAMP:20260419T232819
CREATED:20250520T064218Z
LAST-MODIFIED:20250520T064241Z
UID:17042-1748543400-1748543400@www.paoloroversi.me
SUMMARY:Paolo Roversi presenta L’enigma Kaminski a Castelfranco Veneto
DESCRIPTION:Giovedì 29 maggio alle ore 18:30  presenterò a Castelfranco Veneto  il mio romanzo “L’enigma Kaminski” (Mondadori).
URL:https://www.paoloroversi.me/evento/paolo-roversi-presenta-lenigma-kaminski-a-castelfranco-veneto/
LOCATION:castelfranco veneto\, castelfranco veneto
CATEGORIES:presentazione
ATTACH;FMTTYPE=image/jpeg:https://www.paoloroversi.me/wp-content/uploads/2025/05/castelgranco.jpg
END:VEVENT
BEGIN:VEVENT
DTSTART;TZID=Europe/Helsinki:20250201T173000
DTEND;TZID=Europe/Helsinki:20250201T173000
DTSTAMP:20260419T232819
CREATED:20250124T090926Z
LAST-MODIFIED:20250124T090943Z
UID:16630-1738431000-1738431000@www.paoloroversi.me
SUMMARY:Paolo Roversi presenta L’innocenza dell’iguana a Castelfranco Veneto
DESCRIPTION:Sabato  1 febbraio alle ore 17:30  presenterò a Castelfranco Veneto il mio romanzo “L’innocenza dell’iguana” (Marsilio). Appuntamento in collaborazione con la libreria Mondadori.
URL:https://www.paoloroversi.me/evento/paolo-roversi-presenta-linnocenza-delliguana-a-castelfranco-veneto/
LOCATION:Biblioteca Comunale Castelfranco Veneto\, piazza san liberale\, castelfranco veneto
CATEGORIES:presentazione
ATTACH;FMTTYPE=image/png:https://www.paoloroversi.me/wp-content/uploads/2025/01/castelfranco.png
END:VEVENT
BEGIN:VEVENT
DTSTART;TZID=Europe/Helsinki:20240619T204500
DTEND;TZID=Europe/Helsinki:20240619T220000
DTSTAMP:20260419T232819
CREATED:20240611T092021Z
LAST-MODIFIED:20240611T092021Z
UID:15959-1718829900-1718834400@www.paoloroversi.me
SUMMARY:Paolo Roversi presenta a Castelfranco Veneto
DESCRIPTION:Mercoledì 19 giugno alle ore 20:45 presenterò il mio romanzo “Una morte onorevole” (Mondadori) alla biblioteca comunale di Castelfranco Veneto nell’abito della rassegna Giallo in castello.
URL:https://www.paoloroversi.me/evento/paolo-roversi-presenta-a-castelfranco-veneto/
LOCATION:Biblioteca Comunale Castelfranco Veneto\, piazza san liberale\, castelfranco veneto
CATEGORIES:presentazione
ATTACH;FMTTYPE=image/png:https://www.paoloroversi.me/wp-content/uploads/2024/06/castelfranco.png
END:VEVENT
END:VCALENDAR